
BEGIN:VCALENDAR
VERSION:2.0
PRODID:-//Regional VOICE - ECPv6.15.18//NONSGML v1.0//EN
CALSCALE:GREGORIAN
METHOD:PUBLISH
X-ORIGINAL-URL:https://voicecommunity.org
X-WR-CALDESC:Events for Regional VOICE
REFRESH-INTERVAL;VALUE=DURATION:PT1H
X-Robots-Tag:noindex
X-PUBLISHED-TTL:PT1H
BEGIN:VTIMEZONE
TZID:America/Chicago
BEGIN:DAYLIGHT
TZOFFSETFROM:-0600
TZOFFSETTO:-0500
TZNAME:CDT
DTSTART:20190310T080000
END:DAYLIGHT
BEGIN:STANDARD
TZOFFSETFROM:-0500
TZOFFSETTO:-0600
TZNAME:CST
DTSTART:20191103T070000
END:STANDARD
BEGIN:DAYLIGHT
TZOFFSETFROM:-0600
TZOFFSETTO:-0500
TZNAME:CDT
DTSTART:20200308T080000
END:DAYLIGHT
BEGIN:STANDARD
TZOFFSETFROM:-0500
TZOFFSETTO:-0600
TZNAME:CST
DTSTART:20201101T070000
END:STANDARD
BEGIN:DAYLIGHT
TZOFFSETFROM:-0600
TZOFFSETTO:-0500
TZNAME:CDT
DTSTART:20210314T080000
END:DAYLIGHT
BEGIN:STANDARD
TZOFFSETFROM:-0500
TZOFFSETTO:-0600
TZNAME:CST
DTSTART:20211107T070000
END:STANDARD
BEGIN:DAYLIGHT
TZOFFSETFROM:-0600
TZOFFSETTO:-0500
TZNAME:CDT
DTSTART:20220313T080000
END:DAYLIGHT
BEGIN:STANDARD
TZOFFSETFROM:-0500
TZOFFSETTO:-0600
TZNAME:CST
DTSTART:20221106T070000
END:STANDARD
BEGIN:DAYLIGHT
TZOFFSETFROM:-0600
TZOFFSETTO:-0500
TZNAME:CDT
DTSTART:20230312T080000
END:DAYLIGHT
BEGIN:STANDARD
TZOFFSETFROM:-0500
TZOFFSETTO:-0600
TZNAME:CST
DTSTART:20231105T070000
END:STANDARD
BEGIN:DAYLIGHT
TZOFFSETFROM:-0600
TZOFFSETTO:-0500
TZNAME:CDT
DTSTART:20240310T080000
END:DAYLIGHT
BEGIN:STANDARD
TZOFFSETFROM:-0500
TZOFFSETTO:-0600
TZNAME:CST
DTSTART:20241103T070000
END:STANDARD
BEGIN:DAYLIGHT
TZOFFSETFROM:-0600
TZOFFSETTO:-0500
TZNAME:CDT
DTSTART:20250309T080000
END:DAYLIGHT
BEGIN:STANDARD
TZOFFSETFROM:-0500
TZOFFSETTO:-0600
TZNAME:CST
DTSTART:20251102T070000
END:STANDARD
END:VTIMEZONE
BEGIN:VTIMEZONE
TZID:UTC
BEGIN:STANDARD
TZOFFSETFROM:+0000
TZOFFSETTO:+0000
TZNAME:UTC
DTSTART:20210101T000000
END:STANDARD
END:VTIMEZONE
BEGIN:VEVENT
DTSTART;TZID=America/Chicago:20240824T100000
DTEND;TZID=America/Chicago:20240824T120000
DTSTAMP:20260425T070536
CREATED:20230912T191445Z
LAST-MODIFIED:20240821T180832Z
UID:2016-1724493600-1724500800@voicecommunity.org
SUMMARY:Education-Focused Visioning Session at Ivy Tech
DESCRIPTION:This visioning session\, partnership with Indiana State Teachers Association\, will be focused on education in our community. Come share what you want for your area’s schools! \nWhile RSVPs are appreciated\, if you don’t know until the last minute\, come anyway! We can’t wait to vision with you. As with all VOICE sessions\, it is free to attend and kids are welcome! Food will be provided. \nRSVP here!
URL:https://voicecommunity.org/event/visioningsession82/
LOCATION:Ivy Tech Evansville\, 3501 North First Avenue
CATEGORIES:Regional VOICE Session
ATTACH;FMTTYPE=image/png:https://voicecommunity.org/wp-content/uploads/2023/09/voice-ISTA-8.24.24-2-EB-graphic-1.png
END:VEVENT
BEGIN:VEVENT
DTSTART;TZID=UTC:20220519T160000
DTEND;TZID=UTC:20220519T180000
DTSTAMP:20260425T070536
CREATED:20220509T163106Z
LAST-MODIFIED:20220509T192345Z
UID:1743-1652976000-1652983200@voicecommunity.org
SUMMARY:VOICE Session for Baptisttown Neighborhood and Schools
DESCRIPTION:Regional VOICE is an initiative by Leadership Everyone to bring together diverse groups of people to envision a preferred future for our region. \nThis session will be focused on education in the Baptisttown neighborhood. Come share what you want for your area’s schools! \nAs with all VOICE sessions\, it is free to attend and kids are welcome! Food will be provided. \nWhile RSVPs are appreciated\, if you don’t know until the last minute\, come anyway! We can’t wait to vision with you. \nRSVP at https://voiceforbaptisttownschools.eventbrite.com.
URL:https://voicecommunity.org/event/voice-session-for-baptisttown-schools/
LOCATION:Boys & Girls Club of Evansville\, 700 Bellemeade Ave\, Evansville\, IN\, 47713\, United States
CATEGORIES:Regional VOICE Session
END:VEVENT
BEGIN:VEVENT
DTSTART;TZID=UTC:20220517T170000
DTEND;TZID=UTC:20220517T190000
DTSTAMP:20260425T070536
CREATED:20220509T160605Z
LAST-MODIFIED:20220510T140642Z
UID:1740-1652806800-1652814000@voicecommunity.org
SUMMARY:VOICE Session for Neighborhood Schools at Potter's Wheel
DESCRIPTION:Regional VOICE is an initiative by Leadership Everyone to bring together diverse groups of people to envision a preferred future for our region. \nThis session will be focused on education in the neighborhood surrounding Potter’s Wheel. Come share what you want for your area’s schools! \nAs with all VOICE sessions\, it is free to attend and kids are welcome! Food will be provided. \nWhile RSVPs are appreciated\, if you don’t know until the last minute\, come anyway! We can’t wait to vision with you. \nRSVP at voiceatpotterswheel.eventbrite.com.
URL:https://voicecommunity.org/event/voice-session-for-neighborhood-schools-at-potters-wheel/
LOCATION:Potter’s Wheel\, 333 Jefferson Ave\, Evansville\, IN\, 47713\, United States
CATEGORIES:Regional VOICE Session
END:VEVENT
BEGIN:VEVENT
DTSTART;TZID=UTC:20220513T080000
DTEND;TZID=UTC:20220513T100000
DTSTAMP:20260425T070536
CREATED:20220509T155112Z
LAST-MODIFIED:20220509T155312Z
UID:1739-1652428800-1652436000@voicecommunity.org
SUMMARY:VOICE Session at Bosse School
DESCRIPTION:
URL:https://voicecommunity.org/event/voice-session-at-bosse-school/
CATEGORIES:Regional VOICE Session
END:VEVENT
BEGIN:VEVENT
DTSTART;TZID=UTC:20220425T100000
DTEND;TZID=UTC:20220425T113000
DTSTAMP:20260425T070536
CREATED:20220427T023008Z
LAST-MODIFIED:20220427T023008Z
UID:1735-1650880800-1650886200@voicecommunity.org
SUMMARY:VOICE Session at Signature School
DESCRIPTION:
URL:https://voicecommunity.org/event/voice-session-at-signature-school/
CATEGORIES:Regional VOICE Session
END:VEVENT
BEGIN:VEVENT
DTSTART;TZID=UTC:20220420T150000
DTEND;TZID=UTC:20220420T170000
DTSTAMP:20260425T070536
CREATED:20220318T200303Z
LAST-MODIFIED:20220318T200532Z
UID:1686-1650466800-1650474000@voicecommunity.org
SUMMARY:VOICE Session at University of Evansville
DESCRIPTION:Participate in regional community visioning! Join your community for the Regional VOICE session at University of Evansville on April 20 at the Multicultural Students Center at Ridgway University Center at University of Evansville. \nThe more voices\, the richer the information. Bring your friends\, family\, coworkers\, neighbors\, etc. Kids\, Too! The event is free to attend. And while RSVPs are appreciated\, if you don’t know until the last minute\, come anyway! We can’t wait to vision with you. \nClick here to RSVP!
URL:https://voicecommunity.org/event/voice-session-at-university-of-evansville/
LOCATION:University of Evansville\, 1801 E Walnut St\, Evansville\, IN\, 47714\, United States
CATEGORIES:Regional VOICE Session
END:VEVENT
BEGIN:VEVENT
DTSTART;TZID=UTC:20220409T160000
DTEND;TZID=UTC:20220409T200000
DTSTAMP:20260425T070536
CREATED:20220322T181747Z
LAST-MODIFIED:20220323T153053Z
UID:1694-1649520000-1649534400@voicecommunity.org
SUMMARY:Bilingual VOICE Session / Sesión bilingüe de VOICE
DESCRIPTION: \nRSVP!\nRegional VOICE es una iniciativa de Leadership Everyone que reúne diversos grupos de personas para visualizar un futuro preferido para nuestra región. Esta sesión bilingüe se llevará a cabo en el Browning Room de la Biblioteca Pública Central de Evansville Vanderburgh. ¡Comida proporcionada por La Campirana! Bienvenidos niños!  \nApreciaríamos mucho una reservación\, sin embargo si no sabe hasta el último minuto\, está más que bienvenido! Estamos ansiosos de compartir nuestras visiones con usted.  \nMás sobre Regional VOICE \nRegional VOICE es una iniciativa de visión para la comunidad\, que involucra\, empodera e incluye a todas las personas en los condados de Vanderburgh\, Gibson\, Posey\, Warrick y Henderson que desean participar en conversaciones inspiradoras. Utilizando la metodología de facilitación de Leadership Everyone\, todas las visiones se comparten\, se documentan\, se ponen a disposición del público y se utilizan para la acción estratégica. Las visiones colectivas establecen las prioridades de la comunidad para alimentar las iniciativas de desarrollo y planificación locales y regionales para la implementación inmediata\, a mediano y largo plazo. \n— \nRegional VOICE is an initiative by Leadership Everyone to bring together diverse groups of people to envision a preferred future for our region! This bilingual session will be held at Evansville Vanderburgh Public Library Central’s Browning Room. Food provided by La Campirana! Kids welcome! \nWhile RSVPs are appreciated\, if you don’t know until the last minute\, come anyway! We can’t wait to vision with you. \nMore about Regional VOICE \nRegional VOICE engages\, empowers and includes all people in Vanderburgh\, Gibson\, Posey\, Warrick\, and Henderson counties desiring to participate in inspiring conversations. Utilizing Leadership Everyone’s facilitation methodology\, all visions are shared\, documented\, made available to the public and used for strategic action. The collective visions establish community priorities to feed into local and regional planning and development initiatives for immediate\, mid-range\, and long-term implementation.
URL:https://voicecommunity.org/event/bilingual-voice-session/
LOCATION:Evansville Vanderburgh Public Library – Central\, 200 SE Martin Luther King Jr Blvd\, Evansville\, IN\, 47713\, United States
CATEGORIES:Regional VOICE Session
END:VEVENT
BEGIN:VEVENT
DTSTART;TZID=UTC:20220318T140000
DTEND;TZID=UTC:20220318T160000
DTSTAMP:20260425T070536
CREATED:20220318T201029Z
LAST-MODIFIED:20220318T201130Z
UID:1692-1647612000-1647619200@voicecommunity.org
SUMMARY:VOICE Session at Evansville Rescue Mission
DESCRIPTION:Participate in regional community visionin! Join your community for the Regional VOICE session at Evansville Rescue Mission on February 16 from 2-4 pm. \nThe more voices\, the richer the information. Bring your friends\, family\, coworkers\, neighbors\, etc. Kids\, Too! The event is free to attend. And while RSVPs are appreciated\, if you don’t know until the last minute\, come anyway! We can’t wait to vision with you. \nClick here to RSVP!
URL:https://voicecommunity.org/event/1692/
CATEGORIES:Regional VOICE Session
END:VEVENT
BEGIN:VEVENT
DTSTART;TZID=America/Chicago:20211116T170000
DTEND;TZID=America/Chicago:20211116T190000
DTSTAMP:20260425T070536
CREATED:20211014T151900Z
LAST-MODIFIED:20220318T195932Z
UID:1443-1637082000-1637089200@voicecommunity.org
SUMMARY:Public VOICE Session at Boonville High School
DESCRIPTION:Participate in regional community visioning in Warrick County! Join your community for the public Regional VOICE session on November 9\, 2021\, from 4:30-6:30 pm at Boonville High School. \nThe more voices\, the richer the information. Bring your friends\, family\, coworkers\, neighbors\, etc. Kids\, Too! The event is free to attend. And while RSVPs are appreciated\, if you don’t know until the last minute\, come anyway! We can’t wait to vision with you. \nClick here to RSVP!
URL:https://voicecommunity.org/event/public-voice-session-at-boonville-high-school/
LOCATION:Boonville High School\, 300 N 1st Street\, Boonville\, IN\, 47601\, United States
CATEGORIES:Regional VOICE Session
END:VEVENT
BEGIN:VEVENT
DTSTART;TZID=America/Chicago:20210729T083000
DTEND;TZID=America/Chicago:20210729T103000
DTSTAMP:20260425T070536
CREATED:20210603T190255Z
LAST-MODIFIED:20210625T151428Z
UID:1096-1627547400-1627554600@voicecommunity.org
SUMMARY:VOICE Session in partnership with Talent 2025 Education Work Group
DESCRIPTION:
URL:https://voicecommunity.org/event/talent-2025-education-work-group-voice-meeting/
LOCATION:Evansville Vanderburgh Public Library – Central\, 200 SE Martin Luther King Jr Blvd\, Evansville\, IN\, 47713\, United States
CATEGORIES:Regional VOICE Session
END:VEVENT
BEGIN:VEVENT
DTSTART;TZID=America/Chicago:20210623T180000
DTEND;TZID=America/Chicago:20210623T200000
DTSTAMP:20260425T070536
CREATED:20210602T184241Z
LAST-MODIFIED:20210616T170300Z
UID:1091-1624471200-1624478400@voicecommunity.org
SUMMARY:Public VOICE Session at American Legion\, Mt. Vernon
DESCRIPTION:Participate in regional visioning in Posey County! Join your community for the public Regional VOICE session on June 23\, 2021\, from 6-8 pm at American Legion in Mt. Vernon. \nThe more voices\, the richer the information. Please bring your friends\, family\, coworkers\, neighbors\, etc. Kids are welcome\, too! And while RSVPs are appreciated\, if you don’t know until the last minute\, come anyway! We can’t wait to vision with you. \nClick here to RSVP!\n 
URL:https://voicecommunity.org/event/public-voice-session-at-american-legion-mt-vernon/
LOCATION:American Legion\, 203 Walnut Street\, Mount Vernon\, IN\, 47620\, United States
CATEGORIES:Regional VOICE Session
END:VEVENT
BEGIN:VEVENT
DTSTART;TZID=America/Chicago:20210617T140000
DTEND;TZID=America/Chicago:20210617T160000
DTSTAMP:20260425T070536
CREATED:20210518T141136Z
LAST-MODIFIED:20210603T184851Z
UID:1033-1623938400-1623945600@voicecommunity.org
SUMMARY:Youth Session at Young & Established
DESCRIPTION:
URL:https://voicecommunity.org/event/youth-session-at-mcgary-middle-school/
CATEGORIES:Regional VOICE Session
END:VEVENT
BEGIN:VEVENT
DTSTART;TZID=America/Chicago:20210615T160000
DTEND;TZID=America/Chicago:20210615T180000
DTSTAMP:20260425T070536
CREATED:20210602T183300Z
LAST-MODIFIED:20210603T190737Z
UID:1087-1623772800-1623780000@voicecommunity.org
SUMMARY:Public VOICE Session at Harvestime Temple\, Mt. Vernon
DESCRIPTION:Participate in regional visioning in Posey County! Join your community for the public Regional VOICE session on June 15\, 2021\, from 4-6 pm at Harvestime Temple in Mt. Vernon. \nClick here to RSVP!\n 
URL:https://voicecommunity.org/event/public-voice-session-at-harvestime-temple/
LOCATION:Harvestime Temple\, 101 Roosevelt Drive\, Mount Vernon\, IN\, 47620\, United States
CATEGORIES:Regional VOICE Session
END:VEVENT
BEGIN:VEVENT
DTSTART;TZID=America/Chicago:20210603T163000
DTEND;TZID=America/Chicago:20210603T183000
DTSTAMP:20260425T070536
CREATED:20210519T193013Z
LAST-MODIFIED:20210521T202708Z
UID:1072-1622737800-1622745000@voicecommunity.org
SUMMARY:Public VOICE Session at Central Library
DESCRIPTION:Join your community for the public Regional VOICE session on June 3\, 2021\, at EVPL Central. \nRSVP:\nRSVP through EventBrite.
URL:https://voicecommunity.org/event/public-voice-session-at-central-library/
LOCATION:Evansville Vanderburgh Public Library – Central\, 200 SE Martin Luther King Jr Blvd\, Evansville\, IN\, 47713\, United States
CATEGORIES:Regional VOICE Session
END:VEVENT
BEGIN:VEVENT
DTSTART;TZID=America/Chicago:20210524T143000
DTEND;TZID=America/Chicago:20210524T163000
DTSTAMP:20260425T070536
CREATED:20210518T141103Z
LAST-MODIFIED:20210518T141103Z
UID:1032-1621866600-1621873800@voicecommunity.org
SUMMARY:Youth Session at Washington Middle School
DESCRIPTION:
URL:https://voicecommunity.org/event/youth-session-at-washington-middle-school/
CATEGORIES:Regional VOICE Session
END:VEVENT
BEGIN:VEVENT
DTSTART;TZID=America/Chicago:20210521T143000
DTEND;TZID=America/Chicago:20210521T170000
DTSTAMP:20260425T070536
CREATED:20210518T141031Z
LAST-MODIFIED:20210518T141031Z
UID:1031-1621607400-1621616400@voicecommunity.org
SUMMARY:Youth Session at Lincoln Elementary School
DESCRIPTION:
URL:https://voicecommunity.org/event/youth-session-at-lincoln-elementary-school/
CATEGORIES:Regional VOICE Session
END:VEVENT
BEGIN:VEVENT
DTSTART;TZID=America/Chicago:20210520T143000
DTEND;TZID=America/Chicago:20210520T160000
DTSTAMP:20260425T070536
CREATED:20210518T140954Z
LAST-MODIFIED:20210518T140954Z
UID:1029-1621521000-1621526400@voicecommunity.org
SUMMARY:Youth Session at Glenwood Leadership Academy
DESCRIPTION:
URL:https://voicecommunity.org/event/youth-session-at-glenwood-leadership-academy/
CATEGORIES:Regional VOICE Session
END:VEVENT
BEGIN:VEVENT
DTSTART;TZID=America/Chicago:20210519T144000
DTEND;TZID=America/Chicago:20210519T161500
DTSTAMP:20260425T070536
CREATED:20210518T140911Z
LAST-MODIFIED:20210518T140911Z
UID:1028-1621435200-1621440900@voicecommunity.org
SUMMARY:Youth Session at North Jr High School
DESCRIPTION:
URL:https://voicecommunity.org/event/youth-session-at-north-jr-high-school/
CATEGORIES:Regional VOICE Session
END:VEVENT
BEGIN:VEVENT
DTSTART;TZID=America/Chicago:20210518T143000
DTEND;TZID=America/Chicago:20210518T163000
DTSTAMP:20260425T070536
CREATED:20210518T140751Z
LAST-MODIFIED:20210518T140751Z
UID:1027-1621348200-1621355400@voicecommunity.org
SUMMARY:Youth Session at Lodge School
DESCRIPTION:
URL:https://voicecommunity.org/event/youth-session-at-lodge-school/
CATEGORIES:Regional VOICE Session
END:VEVENT
BEGIN:VEVENT
DTSTART;TZID=America/Chicago:20210512T150000
DTEND;TZID=America/Chicago:20210512T170000
DTSTAMP:20260425T070536
CREATED:20210518T135757Z
LAST-MODIFIED:20210518T135757Z
UID:1021-1620831600-1620838800@voicecommunity.org
SUMMARY:Leadership Everyone Leadership Retreat Session
DESCRIPTION:
URL:https://voicecommunity.org/event/leadership-everyone-leadership-retreat-session-3/
CATEGORIES:Regional VOICE Session
END:VEVENT
BEGIN:VEVENT
DTSTART;TZID=America/Chicago:20210506T163000
DTEND;TZID=America/Chicago:20210506T180000
DTSTAMP:20260425T070536
CREATED:20210518T140559Z
LAST-MODIFIED:20210518T140559Z
UID:1026-1620318600-1620324000@voicecommunity.org
SUMMARY:Virtual Training Session on Zoom
DESCRIPTION:
URL:https://voicecommunity.org/event/virtual-training-session-on-zoom/
CATEGORIES:Regional VOICE Session
END:VEVENT
BEGIN:VEVENT
DTSTART;TZID=America/Chicago:20210417T100000
DTEND;TZID=America/Chicago:20210417T120000
DTSTAMP:20260425T070536
CREATED:20210518T140443Z
LAST-MODIFIED:20210518T140443Z
UID:1025-1618653600-1618660800@voicecommunity.org
SUMMARY:Session at Dream Center Evansville
DESCRIPTION:
URL:https://voicecommunity.org/event/session-at-dream-center-evansville/
CATEGORIES:Regional VOICE Session
END:VEVENT
BEGIN:VEVENT
DTSTART;TZID=America/Chicago:20210118T030000
DTEND;TZID=America/Chicago:20210118T170000
DTSTAMP:20260425T070536
CREATED:20210518T135203Z
LAST-MODIFIED:20210518T135203Z
UID:1023-1610938800-1610989200@voicecommunity.org
SUMMARY:Organizational Session at Memorial CDC
DESCRIPTION:
URL:https://voicecommunity.org/event/organizational-session-at-memorial-cdc/
CATEGORIES:Regional VOICE Session
END:VEVENT
BEGIN:VEVENT
DTSTART;TZID=America/Chicago:20200930T150000
DTEND;TZID=America/Chicago:20200930T170000
DTSTAMP:20260425T070536
CREATED:20210518T140049Z
LAST-MODIFIED:20210518T140342Z
UID:1024-1601478000-1601485200@voicecommunity.org
SUMMARY:Corporate Session with Ivy Tech
DESCRIPTION:
URL:https://voicecommunity.org/event/corporate-session-with-ivy-tech/
CATEGORIES:Regional VOICE Session
END:VEVENT
BEGIN:VEVENT
DTSTART;TZID=America/Chicago:20200826T030000
DTEND;TZID=America/Chicago:20200826T170000
DTSTAMP:20260425T070536
CREATED:20210518T135042Z
LAST-MODIFIED:20210518T135042Z
UID:1022-1598410800-1598461200@voicecommunity.org
SUMMARY:Leadership Everyone Leadership Retreat Session
DESCRIPTION:
URL:https://voicecommunity.org/event/leadership-everyone-leadership-retreat-session-2/
CATEGORIES:Regional VOICE Session
END:VEVENT
BEGIN:VEVENT
DTSTART;TZID=America/Chicago:20200305T173000
DTEND;TZID=America/Chicago:20200305T193000
DTSTAMP:20260425T070536
CREATED:20191216T195327Z
LAST-MODIFIED:20210518T135230Z
UID:604-1583429400-1583436600@voicecommunity.org
SUMMARY:Community VOICE Session at Evansville African American Museum
DESCRIPTION:Join your community for the public Regional VOICE session on March 5\, 2020\, at the Evansville African American Museum. \nRSVP Today:
URL:https://voicecommunity.org/event/community-voice-session/
LOCATION:Evansville African American Museum\, 579 S Garvin St\, Evansville\, IN\, 47713\, United States
CATEGORIES:Regional VOICE Session
END:VEVENT
BEGIN:VEVENT
DTSTART;VALUE=DATE:20200228
DTEND;VALUE=DATE:20200229
DTSTAMP:20260425T070536
CREATED:20200124T143812Z
LAST-MODIFIED:20210518T135248Z
UID:614-1582848000-1582934399@voicecommunity.org
SUMMARY:Corporate Session at Vectren CNP
DESCRIPTION:
URL:https://voicecommunity.org/event/corporate-session-8/
CATEGORIES:Regional VOICE Session
END:VEVENT
BEGIN:VEVENT
DTSTART;VALUE=DATE:20200213
DTEND;VALUE=DATE:20200214
DTSTAMP:20260425T070536
CREATED:20200124T143741Z
LAST-MODIFIED:20210518T135403Z
UID:613-1581552000-1581638399@voicecommunity.org
SUMMARY:Corporate Session with Henderson Leadership Initiative
DESCRIPTION:
URL:https://voicecommunity.org/event/corporate-session-7/
CATEGORIES:Regional VOICE Session
END:VEVENT
BEGIN:VEVENT
DTSTART;VALUE=DATE:20200129
DTEND;VALUE=DATE:20200130
DTSTAMP:20260425T070536
CREATED:20191216T194628Z
LAST-MODIFIED:20191216T194628Z
UID:603-1580256000-1580342399@voicecommunity.org
SUMMARY:Corporate Session
DESCRIPTION:
URL:https://voicecommunity.org/event/corporate-session-6/
CATEGORIES:Regional VOICE Session
END:VEVENT
BEGIN:VEVENT
DTSTART;VALUE=DATE:20200114
DTEND;VALUE=DATE:20200115
DTSTAMP:20260425T070536
CREATED:20191030T164154Z
LAST-MODIFIED:20210518T135506Z
UID:461-1578960000-1579046399@voicecommunity.org
SUMMARY:Corporate Session at AstraZeneca
DESCRIPTION:
URL:https://voicecommunity.org/event/corporate-session-5/
CATEGORIES:Regional VOICE Session
END:VEVENT
END:VCALENDAR